BEGIN:VCALENDAR
VERSION:2.0
PRODID:-//Line 3 IAMC - ECPv6.15.18//NONSGML v1.0//EN
CALSCALE:GREGORIAN
METHOD:PUBLISH
X-ORIGINAL-URL:https://iamc-line3.com
X-WR-CALDESC:Events for Line 3 IAMC
REFRESH-INTERVAL;VALUE=DURATION:PT1H
X-Robots-Tag:noindex
X-PUBLISHED-TTL:PT1H
BEGIN:VTIMEZONE
TZID:America/Edmonton
BEGIN:DAYLIGHT
TZOFFSETFROM:-0700
TZOFFSETTO:-0600
TZNAME:MDT
DTSTART:20240310T090000
END:DAYLIGHT
BEGIN:STANDARD
TZOFFSETFROM:-0600
TZOFFSETTO:-0700
TZNAME:MST
DTSTART:20241103T080000
END:STANDARD
BEGIN:DAYLIGHT
TZOFFSETFROM:-0700
TZOFFSETTO:-0600
TZNAME:MDT
DTSTART:20250309T090000
END:DAYLIGHT
BEGIN:STANDARD
TZOFFSETFROM:-0600
TZOFFSETTO:-0700
TZNAME:MST
DTSTART:20251102T080000
END:STANDARD
BEGIN:DAYLIGHT
TZOFFSETFROM:-0700
TZOFFSETTO:-0600
TZNAME:MDT
DTSTART:20260308T090000
END:DAYLIGHT
BEGIN:STANDARD
TZOFFSETFROM:-0600
TZOFFSETTO:-0700
TZNAME:MST
DTSTART:20261101T080000
END:STANDARD
BEGIN:DAYLIGHT
TZOFFSETFROM:-0700
TZOFFSETTO:-0600
TZNAME:MDT
DTSTART:20270314T090000
END:DAYLIGHT
BEGIN:STANDARD
TZOFFSETFROM:-0600
TZOFFSETTO:-0700
TZNAME:MST
DTSTART:20271107T080000
END:STANDARD
END:VTIMEZONE
BEGIN:VEVENT
DTSTART;VALUE=DATE:20250918
DTEND;VALUE=DATE:20250920
DTSTAMP:20260425T085906
CREATED:20250819T014642Z
LAST-MODIFIED:20250902T181511Z
UID:10000016-1758153600-1758326399@iamc-line3.com
SUMMARY:Line 3 IAMC Indigenous Monitoring Forum
DESCRIPTION:One Future: Enhancing Indigenous Monitoring\, while protecting Indigenous Knowledge\nGreetings! Tansi! Tawnshi! Boozhoo! Aaniin! Oki! Aba Washded! Hau! Iyuskin! Bienvenue!\nJoin us at the beautiful Stoney Nakoda Resort for a gathering focused on Indigenous-led approaches to monitoring. \nFor Indigenous Monitors from Impacted Nations along the Enbridge Corridor. \nRegister Now (Registration is now closed.) \nThis forum will bring together Indigenous Monitors from across the Prairies and beyond to share experiences\, build connections\, and deepen the conversation around: \n\nRisk and safety in monitoring\nRights-based approaches\nCultural and community-driven perspectives\nMonitoring programs in First Nation and Metis communities\n\nSee Agenda \nForum Highlights\nEngage with Indigenous Knowledge and Leadership\nThe Line 3 IAMC Indigenous Monitoring forum offers opportunities to connect\nand gain insights into Indigenous land stewardship and the protection of Indigenous Knowledge. \nInnovate and Collaborate\nParticipate in hands-on workshops and interactive activities\, exploring how traditional knowledge can be\nintegrated with contemporary monitoring approaches to design community-led programs. \nFocus on Future Generations and Capacity\nLearn about the vital role of youth in Indigenous monitoring\,\nemphasizing mentorship and educational pathways within Guardianship programs. \nDiscover Successful Community Initiatives\nHear from various communities about their effective Indigenous monitoring efforts. \nContribute to a Shared Vision\nEngage in discussions focused on charting the future of Indigenous monitoring\, including contributions\nto a National Indigenous Monitoring Framework and a collective call to action. \nNetwork and Build Connections scholars\, and other professionals.\nConnect with Indigenous monitors\, Elders\, guardianship program representatives\, government officials\,\nenvironmentalists\, scholars\, and other professionals. \n_ \nPurpose\nJoin us as we work to advance a national movement towards Indigenous Regulatory Participation\, centered on the question: Who better to decide the future of land\, air\, species\, and resources than the First Nations\, Métis\, and Inuit who have stewarded these lands for generations? \nBackground\nThe Line 3 IAMC created the first ever Indigenous monitoring program which has since worked alongside the Canada Energy Regulator. \nNew Focus\nOur focus is shifting to a longer-term goal: contribute to transforming regulatory systems to secure First Nations and Métis Nation regulatory authority. \nRole of the Line 3 IAMC\n\nSupport and amplify the voices of Rights Holding Nations\, not to hold rights ourselves.\nCollaborate to champion community needs while safeguarding autonomy.\n\nKey Topics\n\nShare the achievements\, struggles and learnings on our journey so far.\nShare insights on the proposed updates to the Terms of Reference for the Line 3 IAMC.\nGather feedback from Rights Holding Nations to shape the direction of our work.\n\nYour participation is vital in shaping a regulatory future where First Nations & Métis decisions are made\, honored and respected when it comes to land\, air\, species and resources. \n“We have described for you a mountain.  We have shown you the way to the top. \nWe call on you to do the climbing.” – Murray Sinclair \nTerritory Acknowledgement\nWe respectfully acknowledge that Stoney Nakoda Resort and Casino is located on the traditional territory of the Îyârhe (Stoney) Nakoda Nations—comprising the Bearspaw\, Chiniki\, and Goodstoney First Nations. \nThis land is part of Treaty 7\, signed in 1877\, and is also home to other Treaty 7 signatories\, including the Tsuut’ina Nation and the Blackfoot Confederacy—Siksika\, Kainai\, and Piikani Nations—as well as Métis Nation of Alberta\, Region 3. \nWe honour and recognize the deep historical and cultural connection the Stoney Nakoda people have to this land\, and we are committed to working together in the spirit of respect\, partnership\, and reconciliation. \n_ \nIf you have any questions or require further assistance\, please contact Naut’sa mawt Event Management at events@nautsamawt.com \n\nNaut’sa mawt Event Management on behalf of Line 3 IAMC
URL:https://iamc-line3.com/event/line-3-iamc-indigenous-monitoring-forum/
LOCATION:Stoney Nakoda Resort & Casino\, 888 Nakoda way\, Mînî Thnî\, Alberta\, T0L 1N0\, Canada
ATTACH;FMTTYPE=image/jpeg:https://iamc-line3.com/wp-content/uploads/2025/08/line3-imf.jpg
END:VEVENT
BEGIN:VEVENT
DTSTART;TZID=America/Edmonton:20260603T080000
DTEND;TZID=America/Edmonton:20260604T170000
DTSTAMP:20260425T085906
CREATED:20260417T230259Z
LAST-MODIFIED:20260417T231515Z
UID:10000018-1780473600-1780592400@iamc-line3.com
SUMMARY:Regional Engagement Sessions 2026
DESCRIPTION:Line 3 IAMC Regional Engagement Sessions 2026 (Save the Date)\nManitoba\nJune 3 – 4\, 2026\nWyndham Garden Winnipeg Airport – Winnipeg\, MB\nThe Line 3 Indigenous Advisory and Monitoring Committee (Line 3 IAMC) is inviting Line 3-impacted First Nations and Métis government representatives in Manitoba to our 2026 Regional Engagement at the Wyndham Garden Winnipeg Airport in Winnipeg June 3-4\, 2026. \nWe are gathering to share updates—but more importantly—to listen. This is your invitation to help steer the direction of the Line 3 IAMC. Whether you are looking to share technical expertise\, cultural wisdom\, or fresh ideas for the future—please join us.
URL:https://iamc-line3.com/event/regional-engagement-sessions-2026/
LOCATION:Wyndham Garden Winnipeg Airport\, 460 Madison St\, Winnipeg\, Manitoba\, R3J 1J1
CATEGORIES:Regional Engagement Sessions
ATTACH;FMTTYPE=image/png:https://iamc-line3.com/wp-content/uploads/2026/04/l3-res2026_savethedate-new-scaled.png
ORGANIZER;CN="Naut'sa mawt Event Management":MAILTO:events@nautsamawt.com
END:VEVENT
BEGIN:VEVENT
DTSTART;TZID=America/Edmonton:20261014T080000
DTEND;TZID=America/Edmonton:20261015T170000
DTSTAMP:20260425T085906
CREATED:20260409T042845Z
LAST-MODIFIED:20260417T222521Z
UID:10000017-1791964800-1792083600@iamc-line3.com
SUMMARY:Line Wide Gathering 2026
DESCRIPTION:Line 3 IAMC Line-Wide Gathering 2026 (Save the Date)\nOctober 14 & 15\, 2026\nGrey Eagle Resort & Casino | Calgary\, AB \nThe Line 3 Indigenous Advisory and Monitoring Committee (IAMC) 2026 Line-Wide Gathering is taking place October 14-15 at the Grey Eagle Events Centre in Calgary\, Alberta. Line 3-impacted Nation representatives are invited to join us and share your vision on the future work of Line 3 IAMC and partners. Details and invitations to come – save-the-date!
URL:https://iamc-line3.com/event/line-wide-gathering-2026/
LOCATION:Grey Eagle Resort & Casino\, 3777 Grey Eagle Dr\, Calgary\, AB\, T3E 3X8\, Canada
CATEGORIES:Line Wide Gatherings
ATTACH;FMTTYPE=image/png:https://iamc-line3.com/wp-content/uploads/2026/04/l3-lwg2026_savethedate-scaled.png
END:VEVENT
END:VCALENDAR