BEGIN:VCALENDAR
VERSION:2.0
PRODID:-//Line 3 IAMC - ECPv6.15.18//NONSGML v1.0//EN
CALSCALE:GREGORIAN
METHOD:PUBLISH
X-ORIGINAL-URL:https://iamc-line3.com
X-WR-CALDESC:Events for Line 3 IAMC
REFRESH-INTERVAL;VALUE=DURATION:PT1H
X-Robots-Tag:noindex
X-PUBLISHED-TTL:PT1H
BEGIN:VTIMEZONE
TZID:America/Edmonton
BEGIN:DAYLIGHT
TZOFFSETFROM:-0700
TZOFFSETTO:-0600
TZNAME:MDT
DTSTART:20240310T090000
END:DAYLIGHT
BEGIN:STANDARD
TZOFFSETFROM:-0600
TZOFFSETTO:-0700
TZNAME:MST
DTSTART:20241103T080000
END:STANDARD
BEGIN:DAYLIGHT
TZOFFSETFROM:-0700
TZOFFSETTO:-0600
TZNAME:MDT
DTSTART:20250309T090000
END:DAYLIGHT
BEGIN:STANDARD
TZOFFSETFROM:-0600
TZOFFSETTO:-0700
TZNAME:MST
DTSTART:20251102T080000
END:STANDARD
BEGIN:DAYLIGHT
TZOFFSETFROM:-0700
TZOFFSETTO:-0600
TZNAME:MDT
DTSTART:20260308T090000
END:DAYLIGHT
BEGIN:STANDARD
TZOFFSETFROM:-0600
TZOFFSETTO:-0700
TZNAME:MST
DTSTART:20261101T080000
END:STANDARD
END:VTIMEZONE
BEGIN:VEVENT
DTSTART;TZID=America/Edmonton:20250808T080000
DTEND;TZID=America/Edmonton:20250810T150000
DTSTAMP:20260424T221618
CREATED:20250710T205413Z
LAST-MODIFIED:20250710T212415Z
UID:10000015-1754640000-1754838000@iamc-line3.com
SUMMARY:Line 3 IAMC Invitation to Land-Based Learning Event
DESCRIPTION:We are pleased to share that the Line 3 Indigenous Advisory and Monitoring Committee (IAMC) \, is inviting you to participate in a Land-Based Learning Event hosted by the Métis Nation–Saskatchewan (MN–S) Eastern Region 3\, on George Gordon First Nation from August 8 to 10\, 2025. \nAs part of the registration process\, all participants must register directly with MN–S for liability purposes. \nemail: admin_eriii@sasktel.net \nDuring registration\, you will be asked whether you are being sponsored by Line 3 IAMC\, and they will forward you to our staff. \nThis hands-on event offers a unique opportunity to engage in cultural learning and connection to the land\, and we hope you can join us. \nACTIVITIES \n\nCamp Set-Up\nCultural Sewing (Fringe Earrings) workshop\nHarvesting Protocols\nMedicine Picking\nLaws of Buffalo Hunt\nSunrise Ceremony & Smudge\nSign Language workshop\nStory Telling\nHide tanning\, fleshing fresh hide w/ tools\nFire making competition/ tea making contest\n\nPlease see poster below for more information. If you have any questions\, please don’t hesitate to reach out.
URL:https://iamc-line3.com/event/line-3-iamc-invitation-to-land-based-learning-event/
LOCATION:George Gordon First Nation\, SK-640\, Punnichy\, SK\, S0A 3C0\, Canada
CATEGORIES:Training
ATTACH;FMTTYPE=image/jpeg:https://iamc-line3.com/wp-content/uploads/2025/07/land-based-learning-sk-img.jpg
END:VEVENT
END:VCALENDAR