BEGIN:VCALENDAR
VERSION:2.0
PRODID:-//Line 3 IAMC - ECPv6.15.18//NONSGML v1.0//EN
CALSCALE:GREGORIAN
METHOD:PUBLISH
X-ORIGINAL-URL:https://iamc-line3.com
X-WR-CALDESC:Events for Line 3 IAMC
REFRESH-INTERVAL;VALUE=DURATION:PT1H
X-Robots-Tag:noindex
X-PUBLISHED-TTL:PT1H
BEGIN:VTIMEZONE
TZID:America/Winnipeg
BEGIN:DAYLIGHT
TZOFFSETFROM:-0600
TZOFFSETTO:-0500
TZNAME:CDT
DTSTART:20240310T080000
END:DAYLIGHT
BEGIN:STANDARD
TZOFFSETFROM:-0500
TZOFFSETTO:-0600
TZNAME:CST
DTSTART:20241103T070000
END:STANDARD
BEGIN:DAYLIGHT
TZOFFSETFROM:-0600
TZOFFSETTO:-0500
TZNAME:CDT
DTSTART:20250309T080000
END:DAYLIGHT
BEGIN:STANDARD
TZOFFSETFROM:-0500
TZOFFSETTO:-0600
TZNAME:CST
DTSTART:20251102T070000
END:STANDARD
BEGIN:DAYLIGHT
TZOFFSETFROM:-0600
TZOFFSETTO:-0500
TZNAME:CDT
DTSTART:20260308T080000
END:DAYLIGHT
BEGIN:STANDARD
TZOFFSETFROM:-0500
TZOFFSETTO:-0600
TZNAME:CST
DTSTART:20261101T070000
END:STANDARD
END:VTIMEZONE
BEGIN:VEVENT
DTSTART;TZID=America/Winnipeg:20250325T080000
DTEND;TZID=America/Winnipeg:20250326T170000
DTSTAMP:20260425T074622
CREATED:20250215T012635Z
LAST-MODIFIED:20250321T003047Z
UID:10000014-1742889600-1743008400@iamc-line3.com
SUMMARY:Training for Indigenous Regulatory Involvement (TIRI) Workshops – Saskatchewan (Saskatoon)
DESCRIPTION:TIRI Workshops – Saskatchewan\nTraining for Indigenous Regulatory Involvement\nTwo-Day Technical Workshop | March 25th & 26th\, 2025\nThe Line 3 Indigenous Advisory and Monitoring Committee (IAMC) is excited to invite you to Training for Indigenous Regulatory Involvement (TIRI) Workshop. \nREGISTER NOW\nRegistration Deadline – March 5th\, 2025 \nSpaces are limited\, register early to secure your spot. \nNote: The training materials are the same as previous TIRI sessions\, if you have already taken the training\, we reserve the right to put you on a waitlist. \nWhat to Expect:\n\nLearn about Canada Energy Regulators (CER) regulatory review process for pipeline projects and opportunities for Indigenous involvement.\nThe workshop has been designed for wide participation from Indigenous Nations involved in the Line 3 IAMC.\nDevelopment of the TIRI course was a collaborative effort between Apeiron Environment Ltd. (Apeiron)\, the Line 3 IAMC\, the CER and other partners such as the Southern Alberta Institute of Technology (SAIT).\n\nParticipants are required to register in Digital Chalk to complete three (3) pre-requisite TIRI modules before the two-day workshop. Instructions how how to access them can be found here. \nFrequently Asked Questions\nWho may attend this engagement?\nThe workshop is intended for individuals from impacted nations\, priority will be given to anyone who has not yet attended previous TIRI sessions. \nAre there any pre-requisites or required materials?\nParticipants are required to register in Digital Chalk to complete three (3) pre-requisite TIRI modules before the two-day workshop. Instructions on how to access them can be found here. \nPlease bring your own devices (laptops or tablets) and headphones/earbuds. If you require the use of a loaner device or equipment please contact us. \nNotebooks\, exercises\, pens/pencils\, and rulers will be provided. We only ask that you are willing to participate in open discussions and practical exercises. \nWhat’s included for all participants?\nTravel arrangements (airfare or mileage) and accommodations (hotel stay starting Tuesday night). \nDaily honoraria\, meals\, and a daily allowance for dinners and incidentals. \nA flat-rate travel claim form will be circulated ahead of the meeting.
URL:https://iamc-line3.com/event/training-for-indigenous-regulatory-involvement-tiri-workshops-saskatchewan-saskatoon/
LOCATION:Dakota Dunes Resort\, 203 Dakota Dunes Way\, Whitecap\, Saskatchewan\, S7K 2L2\, Canada
CATEGORIES:Training
ATTACH;FMTTYPE=image/png:https://iamc-line3.com/wp-content/uploads/2025/02/tiri_logo_teal.png
ORGANIZER;CN="Naut'sa mawt Event Management":MAILTO:events@nautsamawt.com
END:VEVENT
END:VCALENDAR